BEGIN:VCALENDAR
VERSION:2.0
PRODID:-//Plone.org//NONSGML plone.app.event//EN
X-WR-TIMEZONE:Europe/Rome
BEGIN:VEVENT
SUMMARY:XII CISEHL
DTSTART;VALUE=DATE:20190619
DTEND;VALUE=DATE:20190622
DTSTAMP;VALUE=DATE-TIME:20260424T195106Z
UID:29d41071f3034df49fe3de1c22587f23@dit.unibo.it
CREATED;VALUE=DATE-TIME:20190527T074922Z
DESCRIPTION:XII Congreso Internacional de la Sociedad Española de Histori
 ografía Lingüística (SEHL)
LAST-MODIFIED;VALUE=DATE-TIME:20190527T075007Z
URL:https://dit.unibo.it/it/eventi/xii-cisehl
END:VEVENT
END:VCALENDAR
