BEGIN:VCALENDAR
VERSION:2.0
PRODID:-//Plone.org//NONSGML plone.app.event//EN
X-WR-TIMEZONE:Europe/Rome
BEGIN:VEVENT
SUMMARY:Workshop di teatro-danza
DTSTART;TZID=Europe/Rome;VALUE=DATE-TIME:20221025T170000
DTEND;TZID=Europe/Rome;VALUE=DATE-TIME:20221025T184500
DTSTAMP;VALUE=DATE-TIME:20260423T190935Z
UID:37d7072b91be4ecbbf561d8938e4f3c6@dit.unibo.it
CREATED;VALUE=DATE-TIME:20221020T062526Z
DESCRIPTION:Laboratorio teatrale dedicato alla drammaturgia motoria
LAST-MODIFIED;VALUE=DATE-TIME:20221020T062823Z
URL:https://dit.unibo.it/it/eventi/workshop-di-teatro-danza
END:VEVENT
BEGIN:VTIMEZONE
TZID:Europe/Rome
X-LIC-LOCATION:Europe/Rome
BEGIN:DAYLIGHT
DTSTART;VALUE=DATE-TIME:20220327T030000
TZNAME:CEST
TZOFFSETFROM:+0100
TZOFFSETTO:+0200
END:DAYLIGHT
END:VTIMEZONE
END:VCALENDAR
