BEGIN:VCALENDAR
VERSION:2.0
PRODID:-//Plone.org//NONSGML plone.app.event//EN
X-WR-TIMEZONE:Europe/Rome
BEGIN:VEVENT
SUMMARY:Valutazione e testing per la traduzione\, l'interpretazione e la c
 ompetenza linguistica
DTSTART;TZID=Europe/Rome;VALUE=DATE-TIME:20191029T093000
DTEND;TZID=Europe/Rome;VALUE=DATE-TIME:20191029T133000
DTSTAMP;VALUE=DATE-TIME:20260421T080207Z
UID:447610cbfe45476e8f91eebac5de24cf@dit.unibo.it
CREATED;VALUE=DATE-TIME:20191016T132509Z
DESCRIPTION:Seminario internazionale
LAST-MODIFIED;VALUE=DATE-TIME:20191016T132801Z
URL:https://dit.unibo.it/it/eventi/valutazione-e-testing-per-la-traduzione
 -linterpretazione-e-la-competenza-linguistica
END:VEVENT
BEGIN:VTIMEZONE
TZID:Europe/Rome
X-LIC-LOCATION:Europe/Rome
BEGIN:STANDARD
DTSTART;VALUE=DATE-TIME:20191027T020000
TZNAME:CET
TZOFFSETFROM:+0200
TZOFFSETTO:+0100
END:STANDARD
END:VTIMEZONE
END:VCALENDAR
