BEGIN:VCALENDAR
VERSION:2.0
PRODID:-//Plone.org//NONSGML plone.app.event//EN
X-WR-TIMEZONE:Europe/Rome
BEGIN:VEVENT
SUMMARY:The Process of Revision & Post-editing in Translation
DTSTART;TZID=Europe/Rome;VALUE=DATE-TIME:20170407T090000
DTEND;TZID=Europe/Rome;VALUE=DATE-TIME:20170407T190000
DTSTAMP;VALUE=DATE-TIME:20260424T002450Z
UID:1df125cad84243d8abd9f0c0d83932f3@dit.unibo.it
CREATED;VALUE=DATE-TIME:20170327T074522Z
LAST-MODIFIED;VALUE=DATE-TIME:20170327T090633Z
URL:https://dit.unibo.it/it/eventi/the-process-of-revision-post-editing-in
 -translation
END:VEVENT
BEGIN:VTIMEZONE
TZID:Europe/Rome
X-LIC-LOCATION:Europe/Rome
BEGIN:DAYLIGHT
DTSTART;VALUE=DATE-TIME:20170326T030000
TZNAME:CEST
TZOFFSETFROM:+0100
TZOFFSETTO:+0200
END:DAYLIGHT
END:VTIMEZONE
END:VCALENDAR
