BEGIN:VCALENDAR
VERSION:2.0
PRODID:-//Plone.org//NONSGML plone.app.event//EN
X-WR-TIMEZONE:Europe/Rome
BEGIN:VEVENT
SUMMARY:The multiple challenges of humanitarian interpreting
DTSTART;VALUE=DATE:20160408
DTEND;VALUE=DATE:20160409
DTSTAMP;VALUE=DATE-TIME:20260422T223732Z
UID:6c25ee11d87f48cf89d81a3b05d9f832@dit.unibo.it
CREATED;VALUE=DATE-TIME:20160331T063742Z
LAST-MODIFIED;VALUE=DATE-TIME:20160406T071850Z
URL:https://dit.unibo.it/it/eventi/the-multiple-challenges-of-humanitarian
 -interpreting
END:VEVENT
END:VCALENDAR
