BEGIN:VCALENDAR
VERSION:2.0
PRODID:-//Plone.org//NONSGML plone.app.event//EN
X-WR-TIMEZONE:Europe/Rome
BEGIN:VEVENT
SUMMARY:Pomeriggio con il film slovacco 2
DTSTART;TZID=Europe/Rome;VALUE=DATE-TIME:20161215T170000
DTEND;TZID=Europe/Rome;VALUE=DATE-TIME:20161215T183000
DTSTAMP;VALUE=DATE-TIME:20260424T005821Z
UID:6ec4f656290a4e249ba73158ce5ec52e@dit.unibo.it
CREATED;VALUE=DATE-TIME:20161212T070438Z
LAST-MODIFIED;VALUE=DATE-TIME:20161212T070500Z
URL:https://dit.unibo.it/it/eventi/pomeriggio-con-il-film-slovacco-2
END:VEVENT
BEGIN:VTIMEZONE
TZID:Europe/Rome
X-LIC-LOCATION:Europe/Rome
BEGIN:STANDARD
DTSTART;VALUE=DATE-TIME:20161030T020000
TZNAME:CET
TZOFFSETFROM:+0200
TZOFFSETTO:+0100
END:STANDARD
END:VTIMEZONE
END:VCALENDAR
