BEGIN:VCALENDAR
VERSION:2.0
PRODID:-//Plone.org//NONSGML plone.app.event//EN
X-WR-TIMEZONE:Europe/Rome
BEGIN:VEVENT
SUMMARY:Per una visione unitaria delle figure su basi linguistiche e conce
 ttuali
DTSTART;TZID=Europe/Rome;VALUE=DATE-TIME:20180314T110000
DTEND;TZID=Europe/Rome;VALUE=DATE-TIME:20180314T130000
DTSTAMP;VALUE=DATE-TIME:20260419T224157Z
UID:38d0e846fc9a47b586cfaeb195d3494e@dit.unibo.it
CREATED;VALUE=DATE-TIME:20180226T080850Z
LAST-MODIFIED;VALUE=DATE-TIME:20180226T081129Z
URL:https://dit.unibo.it/it/eventi/per-una-visione-unitaria-delle-figure-s
 u-basi-linguistiche-e-concettuali
END:VEVENT
BEGIN:VTIMEZONE
TZID:Europe/Rome
X-LIC-LOCATION:Europe/Rome
BEGIN:STANDARD
DTSTART;VALUE=DATE-TIME:20171029T020000
TZNAME:CET
TZOFFSETFROM:+0200
TZOFFSETTO:+0100
END:STANDARD
END:VTIMEZONE
END:VCALENDAR
