BEGIN:VCALENDAR
VERSION:2.0
PRODID:-//Plone.org//NONSGML plone.app.event//EN
X-WR-TIMEZONE:Europe/Rome
BEGIN:VEVENT
SUMMARY:Miss Universo: passerella multilingue tra le nebulose della comici
 tà
DTSTART;TZID=Europe/Rome;VALUE=DATE-TIME:20240221T190000
DTEND;TZID=Europe/Rome;VALUE=DATE-TIME:20240221T203000
DTSTAMP;VALUE=DATE-TIME:20260420T191908Z
UID:d821e67aead245ba8c0e4627f3d0a92c@dit.unibo.it
CREATED;VALUE=DATE-TIME:20240215T074539Z
DESCRIPTION:Performance di Stand Up Comedy
LAST-MODIFIED;VALUE=DATE-TIME:20240215T074750Z
URL:https://dit.unibo.it/it/eventi/miss-universo-passerella-multilingue-tr
 a-le-nebulose-della-comicita
END:VEVENT
BEGIN:VTIMEZONE
TZID:Europe/Rome
X-LIC-LOCATION:Europe/Rome
BEGIN:STANDARD
DTSTART;VALUE=DATE-TIME:20231029T020000
TZNAME:CET
TZOFFSETFROM:+0200
TZOFFSETTO:+0100
END:STANDARD
END:VTIMEZONE
END:VCALENDAR
