BEGIN:VCALENDAR
VERSION:2.0
PRODID:-//Plone.org//NONSGML plone.app.event//EN
X-WR-TIMEZONE:Europe/Rome
BEGIN:VEVENT
SUMMARY: Metamorfosi di uno stile. Su alcune traduzioni italiane di Kafka
DTSTART;TZID=Europe/Rome;VALUE=DATE-TIME:20181212T090000
DTEND;TZID=Europe/Rome;VALUE=DATE-TIME:20181212T110000
DTSTAMP;VALUE=DATE-TIME:20260421T020856Z
UID:97f1a26b06b3451abe555a358e05b789@dit.unibo.it
CREATED;VALUE=DATE-TIME:20181210T082339Z
DESCRIPTION: Seminario su Teoria e Prassi della Traduzione Letteraria nell
 'ambito del Laboratorio Permanente di Traduzione Letteraria
LAST-MODIFIED;VALUE=DATE-TIME:20181210T082401Z
URL:https://dit.unibo.it/it/eventi/metamorfosi-di-uno-stile.-su-alcune-tra
 duzioni-italiane-di-kafka
END:VEVENT
BEGIN:VTIMEZONE
TZID:Europe/Rome
X-LIC-LOCATION:Europe/Rome
BEGIN:STANDARD
DTSTART;VALUE=DATE-TIME:20181028T020000
TZNAME:CET
TZOFFSETFROM:+0200
TZOFFSETTO:+0100
END:STANDARD
END:VTIMEZONE
END:VCALENDAR
