BEGIN:VCALENDAR
VERSION:2.0
PRODID:-//Plone.org//NONSGML plone.app.event//EN
X-WR-TIMEZONE:Europe/Rome
BEGIN:VEVENT
SUMMARY:Masterclass di Interpretazione ​e Mindfulness
DTSTART;VALUE=DATE:20180619
DTEND;VALUE=DATE:20180621
DTSTAMP;VALUE=DATE-TIME:20260424T095526Z
UID:21f5067358994e60927e07f846aa6bca@dit.unibo.it
CREATED;VALUE=DATE-TIME:20180618T085630Z
DESCRIPTION:Masterclass di Interpretazione ​e Mindfulness con il dott. M
 irko Coleschi\, interprete accreditato UE
LAST-MODIFIED;VALUE=DATE-TIME:20180618T085642Z
URL:https://dit.unibo.it/it/eventi/masterclass-di-interpretazione-200be-mi
 ndfulness
END:VEVENT
END:VCALENDAR
