BEGIN:VCALENDAR
VERSION:2.0
PRODID:-//Plone.org//NONSGML plone.app.event//EN
X-WR-TIMEZONE:Europe/Rome
BEGIN:VEVENT
SUMMARY:Presentazione del DIZIONARIO DELLA MODA Inglese-Italiano​
DTSTART;TZID=Europe/Rome;VALUE=DATE-TIME:20180409T133000
DTEND;TZID=Europe/Rome;VALUE=DATE-TIME:20180409T150000
DTSTAMP;VALUE=DATE-TIME:20260424T064822Z
UID:b4eab2e05c484a95bc765ca67aed4252@dit.unibo.it
CREATED;VALUE=DATE-TIME:20180404T084625Z
DESCRIPTION:Conferenza di Presentazione del Dizionario della MODA Inglese-
 Italiano
LAST-MODIFIED;VALUE=DATE-TIME:20180404T122105Z
URL:https://dit.unibo.it/it/eventi/le-parole-della-moda-e-il-loro-wordrobe
END:VEVENT
BEGIN:VTIMEZONE
TZID:Europe/Rome
X-LIC-LOCATION:Europe/Rome
BEGIN:DAYLIGHT
DTSTART;VALUE=DATE-TIME:20180325T030000
TZNAME:CEST
TZOFFSETFROM:+0100
TZOFFSETTO:+0200
END:DAYLIGHT
END:VTIMEZONE
END:VCALENDAR
