BEGIN:VCALENDAR
VERSION:2.0
PRODID:-//Plone.org//NONSGML plone.app.event//EN
X-WR-TIMEZONE:Europe/Rome
BEGIN:VEVENT
SUMMARY:Laboratorio di tecniche teatrali per interpreti
DTSTART;TZID=Europe/Rome;VALUE=DATE-TIME:20180504T150000
DTEND;TZID=Europe/Rome;VALUE=DATE-TIME:20180504T190000
DTSTAMP;VALUE=DATE-TIME:20260423T234622Z
UID:21a78ddc18c249728263525bd3705853@dit.unibo.it
CREATED;VALUE=DATE-TIME:20180503T055344Z
DESCRIPTION:"Dire\, Fare\, Comunicare" è un laboratorio teorico-pratico\,
  ispirato a esercizi e tecniche di formazione teatrale opportunamente adat
 tate per interpreti. 
LAST-MODIFIED;VALUE=DATE-TIME:20180503T055418Z
URL:https://dit.unibo.it/it/eventi/laboratorio-di-tecniche-teatrali-per-in
 terpreti
END:VEVENT
BEGIN:VTIMEZONE
TZID:Europe/Rome
X-LIC-LOCATION:Europe/Rome
BEGIN:DAYLIGHT
DTSTART;VALUE=DATE-TIME:20180325T030000
TZNAME:CEST
TZOFFSETFROM:+0100
TZOFFSETTO:+0200
END:DAYLIGHT
END:VTIMEZONE
END:VCALENDAR
