BEGIN:VCALENDAR
VERSION:2.0
PRODID:-//Plone.org//NONSGML plone.app.event//EN
X-WR-TIMEZONE:Europe/Rome
BEGIN:VEVENT
SUMMARY:La fiaba russa: tipi\, temi\, lingua e struttura
DTSTART;TZID=Europe/Rome;VALUE=DATE-TIME:20180306T100000
DTEND;TZID=Europe/Rome;VALUE=DATE-TIME:20180306T110000
DTSTAMP;VALUE=DATE-TIME:20260424T170918Z
UID:833adb0fd8d64d60b417e641c68116c8@dit.unibo.it
CREATED;VALUE=DATE-TIME:20180226T084041Z
LAST-MODIFIED;VALUE=DATE-TIME:20180226T084100Z
URL:https://dit.unibo.it/it/eventi/la-fiaba-russa-tipi-temi-lingua-e-strut
 tura
END:VEVENT
BEGIN:VTIMEZONE
TZID:Europe/Rome
X-LIC-LOCATION:Europe/Rome
BEGIN:STANDARD
DTSTART;VALUE=DATE-TIME:20171029T020000
TZNAME:CET
TZOFFSETFROM:+0200
TZOFFSETTO:+0100
END:STANDARD
END:VTIMEZONE
END:VCALENDAR
