BEGIN:VCALENDAR
VERSION:2.0
PRODID:-//Plone.org//NONSGML plone.app.event//EN
X-WR-TIMEZONE:Europe/Rome
BEGIN:VEVENT
SUMMARY:International Standards for Translators and Translation Companies
DTSTART;TZID=Europe/Rome;VALUE=DATE-TIME:20170228T170000
DTEND;TZID=Europe/Rome;VALUE=DATE-TIME:20170228T183000
DTSTAMP;VALUE=DATE-TIME:20260425T171605Z
UID:3e04524ef3de400b952a39a8830b7857@dit.unibo.it
CREATED;VALUE=DATE-TIME:20170222T090329Z
DESCRIPTION:Prof. Georg Löckinger (University of Applied Sciences Upper A
 ustria)\n
LAST-MODIFIED;VALUE=DATE-TIME:20170222T090347Z
URL:https://dit.unibo.it/it/eventi/international-standards-for-translators
 -and-translation-companies
END:VEVENT
BEGIN:VTIMEZONE
TZID:Europe/Rome
X-LIC-LOCATION:Europe/Rome
BEGIN:STANDARD
DTSTART;VALUE=DATE-TIME:20161030T020000
TZNAME:CET
TZOFFSETFROM:+0200
TZOFFSETTO:+0100
END:STANDARD
END:VTIMEZONE
END:VCALENDAR
