BEGIN:VCALENDAR
VERSION:2.0
PRODID:-//Plone.org//NONSGML plone.app.event//EN
X-WR-TIMEZONE:Europe/Rome
BEGIN:VEVENT
SUMMARY:Festival della Traduzione - Con altre parole
DTSTART;VALUE=DATE:20251023
DTEND;VALUE=DATE:20251025
DTSTAMP;VALUE=DATE-TIME:20260419T201752Z
UID:086cd1f5a58a4ea087900fd65acd058a@dit.unibo.it
CREATED;VALUE=DATE-TIME:20251011T121322Z
DESCRIPTION:La III edizione del Festival della Traduzione - Con altre paro
 le si terrà il 23 e 24 ottobre presso l'Auditorium di San Giacomo. Quest'
 anno il Festival sarà dedicato al tema della "R(i)esistenza".
LAST-MODIFIED;VALUE=DATE-TIME:20251011T121521Z
URL:https://dit.unibo.it/it/eventi/festival-della-traduzione-con-altre-par
 ole-1
END:VEVENT
END:VCALENDAR
