BEGIN:VCALENDAR
VERSION:2.0
PRODID:-//Plone.org//NONSGML plone.app.event//EN
X-WR-TIMEZONE:Europe/Rome
BEGIN:VEVENT
SUMMARY:Due conferenze su voce e udito dell’interprete
DTSTART;TZID=Europe/Rome;VALUE=DATE-TIME:20230508T150000
DTEND;TZID=Europe/Rome;VALUE=DATE-TIME:20230508T183000
DTSTAMP;VALUE=DATE-TIME:20260419T191228Z
UID:d04576026a044c928815fc2dd9a4941b@dit.unibo.it
CREATED;VALUE=DATE-TIME:20230427T080549Z
DESCRIPTION:Andrea Caniato (AIIC) parla della voce come strumento di lavor
 o e biglietto da visita dell'interprete e fa un bilancio provvisorio sulle
  ripercussioni sull'udito delle conferenze in remoto
LAST-MODIFIED;VALUE=DATE-TIME:20230427T080741Z
URL:https://dit.unibo.it/it/eventi/due-conferenze-su-voce-e-udito-dell-int
 erprete
END:VEVENT
BEGIN:VTIMEZONE
TZID:Europe/Rome
X-LIC-LOCATION:Europe/Rome
BEGIN:DAYLIGHT
DTSTART;VALUE=DATE-TIME:20230326T030000
TZNAME:CEST
TZOFFSETFROM:+0100
TZOFFSETTO:+0200
END:DAYLIGHT
END:VTIMEZONE
END:VCALENDAR
