BEGIN:VCALENDAR
VERSION:2.0
PRODID:-//Plone.org//NONSGML plone.app.event//EN
X-WR-TIMEZONE:Europe/Rome
BEGIN:VEVENT
SUMMARY:Conferenza "The Art of Translation"
DTSTART;TZID=Europe/Rome;VALUE=DATE-TIME:20170303T090000
DTEND;TZID=Europe/Rome;VALUE=DATE-TIME:20170303T110000
DTSTAMP;VALUE=DATE-TIME:20260426T032034Z
UID:e6ce67fa58984838a0cedfe303e8a34d@dit.unibo.it
CREATED;VALUE=DATE-TIME:20170222T143858Z
LAST-MODIFIED;VALUE=DATE-TIME:20170222T143913Z
URL:https://dit.unibo.it/it/eventi/conferenza-the-art-of-translation
END:VEVENT
BEGIN:VTIMEZONE
TZID:Europe/Rome
X-LIC-LOCATION:Europe/Rome
BEGIN:STANDARD
DTSTART;VALUE=DATE-TIME:20161030T020000
TZNAME:CET
TZOFFSETFROM:+0200
TZOFFSETTO:+0100
END:STANDARD
END:VTIMEZONE
END:VCALENDAR
