BEGIN:VCALENDAR
VERSION:2.0
PRODID:-//Plone.org//NONSGML plone.app.event//EN
X-WR-TIMEZONE:Europe/Rome
BEGIN:VEVENT
SUMMARY:Conferenza "The Art of Translation"
DTSTART;VALUE=DATE:20170303
DTEND;VALUE=DATE:20170304
DTSTAMP;VALUE=DATE-TIME:20260426T013357Z
UID:d4974f99eb05453fb075fdbff3f9d0d0@dit.unibo.it
CREATED;VALUE=DATE-TIME:20170223T102112Z
LAST-MODIFIED;VALUE=DATE-TIME:20170223T102134Z
URL:https://dit.unibo.it/it/eventi/conferenza-the-art-of-translation-1
END:VEVENT
END:VCALENDAR
